BEGIN:VCALENDAR
VERSION:2.0
PRODID:-//eventon.com NONSGML v1.0//EN
CALSCALE:GREGORIAN
METHOD:PUBLISH
BEGIN:VEVENT
UID:69e8aa96bf2c9
DTSTAMP:20260422T110142Z
DTSTART:20200320T110000Z
DTEND:20200320T235000Z
LOCATION:Peoria Civic Center 201 SW Jefferson Ave\,  Peoria IL
SUMMARY:IHSA Boys Basketball Tournament
DESCRIPTION:The IHSA Boys Basketball Tournament Class 3A Semifinals Session
  will be held in the Peoria Civic Center Arena with Game 1 at 11:15 am and 
 Game 2 at 1 pm. The IHSA Class 4A Semifinals Session will be held in the Pe
 oria Civic Center Arena with Game 1 beginning at[..]\nhttps://explorepeoria
 .com/events/ihsa-boys-basketball-tournament-2020/
URL:https://explorepeoria.com/events/ihsa-boys-basketball-tournament-2020/
END:VEVENT
END:VCALENDAR