BEGIN:VCALENDAR
VERSION:2.0
PRODID:-//eventon.com NONSGML v1.0//EN
CALSCALE:GREGORIAN
METHOD:PUBLISH
BEGIN:VEVENT
UID:69e8f7cd65849
DTSTAMP:20260422T163109Z
DTSTART:20211227T230000Z
DTEND:20211228T010000Z
LOCATION:Spirit of Peoria 100 Water Street\,  Peoria IL 61602
SUMMARY:Spirit of Peoria - Dixieland Dinner Cruise
DESCRIPTION:A Dixieland Dinner Cruise will take place on the Spirit of Pe
 oria from 5 - 7 pm. Featuring Dixieland music by Chuck &amp; C-notes and a 
 Southern inspired dinner\,  tickets are $48 for adults and $24 for kids age
 d 4 - 15 and are available by calling 309-637-8000\,  at the dock or[..]\nh
 ttps://explorepeoria.com/events/spirit-of-peoria-dixieland-dinner-cruise/
URL:https://explorepeoria.com/events/spirit-of-peoria-dixieland-dinner-cruise/
END:VEVENT
END:VCALENDAR