BEGIN:VCALENDAR
VERSION:2.0
PRODID:-//eventon.com NONSGML v1.0//EN
CALSCALE:GREGORIAN
METHOD:PUBLISH
BEGIN:VEVENT
UID:69ea02d77ae6b
DTSTAMP:20260423T113031Z
DTSTART:20211203T220000Z
DTEND:20211204T020000Z
LOCATION:Court Street Downtown
SUMMARY:20th Annual Christmas on Court
DESCRIPTION:The 20th Annual Christmas on Court will take place throughout d
 owntown Pekin from 4 - 8 pm. Shop local retailers and pop-up markets\,  enj
 oy live music\,  view the ice sculpture and community Christmas tree plus v
 isit Santa.  Admission is free. For more information\,  visit https://peki
 nchamber.com\nhttps://explorepeoria.com/events/20th-annual-christmas-on-cou
 rt/
URL:https://explorepeoria.com/events/20th-annual-christmas-on-court/
END:VEVENT
END:VCALENDAR