BEGIN:VCALENDAR
VERSION:2.0
PRODID:-//eventon.com NONSGML v1.0//EN
CALSCALE:GREGORIAN
METHOD:PUBLISH
BEGIN:VEVENT
UID:69ea00413fa10
DTSTAMP:20260423T111929Z
DTSTART:20211211T010000Z
DTEND:20211211T055000Z
LOCATION:Pekin Community High School 1903 Court St.\,  Pekin\,  IL
SUMMARY:Christmas With Friends
DESCRIPTION:Friends in Harmony will present Christmas With Friends at Pekin
  Community High School (located at 1903 Court Street in Pekin) on Friday at
  7 pm and on Saturday at 3 pm.  Tickets are $10 and are available at Stege
 r's Furniture in Pekin\,  any chorus member or at the door.  For[..]\nhttp
 s://explorepeoria.com/events/christmas-with-friends/
URL:https://explorepeoria.com/events/christmas-with-friends/
END:VEVENT
END:VCALENDAR