BEGIN:VCALENDAR
VERSION:2.0
PRODID:-//eventon.com NONSGML v1.0//EN
CALSCALE:GREGORIAN
METHOD:PUBLISH
BEGIN:VEVENT
UID:69e9130eb3903
DTSTAMP:20260422T182726Z
DTSTART:20211120T013000Z
DTEND:20211120T055000Z
LOCATION:Exposition Gardens 1601 W Northmoor Rd in Peoria
SUMMARY:Cirque Alcatraz
DESCRIPTION:The Cirque Alcatraz will be presented at Expo Gardens (located 
 at 1601 W Northmoor Rd. in Peoria) on Thursday and Friday at 7:30 pm\,  Sat
 urday at 6:30 pm and 9:30 pm and Sunday at 5:30 and 8:30 pm.  This product
 ion is rated "R" due to the raw content of the[..]\nhttps://explorepeoria.c
 om/events/cirque-alcatraz/var/ri-1.l-L1
URL:https://explorepeoria.com/events/cirque-alcatraz/var/ri-1.l-L1
END:VEVENT
END:VCALENDAR