BEGIN:VCALENDAR
VERSION:2.0
PRODID:-//eventon.com NONSGML v1.0//EN
CALSCALE:GREGORIAN
METHOD:PUBLISH
BEGIN:VEVENT
UID:69ecec5720aed
DTSTAMP:20260425T163119Z
DTSTART:20210529
DTEND:20210530
LOCATION:https://onthestage.com/show/corn-stock-theatre/talk-radio-33388
SUMMARY:Corn Stock Theatre - Talk Radio
DESCRIPTION:Corn Stock Theatre will present Talk Radio as a virtual event a
 vailable via live stream.  Directed by Chris Peterlin\,  the show is a 198
 8 Pulitzer Prize Finalist in Drama written by Eric Bogosian.  Barry Champl
 ain\,  Cleveland’s controversial radio host\,  is on the air doing what h
 e does best: insulting the[..]\nhttps://explorepeoria.com/events/corn-stock
 -theatre-talk-radio/var/event_access
URL:https://explorepeoria.com/events/corn-stock-theatre-talk-radio/var/event_access
END:VEVENT
END:VCALENDAR