BEGIN:VCALENDAR
VERSION:2.0
PRODID:-//eventon.com NONSGML v1.0//EN
CALSCALE:GREGORIAN
METHOD:PUBLISH
BEGIN:VEVENT
UID:69e9dc2aa3048
DTSTAMP:20260423T084530Z
DTSTART:20210214T020000Z
DTEND:20210214T055000Z
LOCATION:https://www.facebook.com/events/1305452216464794
SUMMARY:Romance
DESCRIPTION:Romance with the Romaniacs will be presented by the Peoria Symp
 hony Orchestra on the PSO Facebook page or on WTVP World 47.3 beginning at 
 8 pm.   Featuring the local Roma Jazz group the Romaniacs\,  Chicago-base
 d violinist Masha Lakisova\,  and the PSO Artist-In-Residence Michelle Arey
 zaga\,  soprano\,  this performance mixes Roma culture[..]\nhttps://explore
 peoria.com/events/romance-2021/var/event_access
URL:https://explorepeoria.com/events/romance-2021/var/event_access
END:VEVENT
END:VCALENDAR