BEGIN:VCALENDAR
VERSION:2.0
PRODID:-//eventon.com NONSGML v1.0//EN
CALSCALE:GREGORIAN
METHOD:PUBLISH
BEGIN:VEVENT
UID:69e9ea8407dda
DTSTAMP:20260423T094644Z
DTSTART:20210129T000000Z
DTEND:20210129T055000Z
LOCATION:https://www.facebook.com/events/3661756420576804/
SUMMARY:Mayoral Candidate Forum
DESCRIPTION:A Mayoral Candidate Forum will be held virtually via Facebook l
 ive beginning at 6 pm.Â  The Q&amp;A session will be primarily focused on t
 he topics of innovation and entrepreneurship and how they can serve as an e
 conomic catalyst across all aspects of our community.Â  Admission is free.Â
   Â Watch at https://www.facebook.com\nhttps://explorepeoria.com/events/may
 oral-candidate-forum/var/event_access
URL:https://explorepeoria.com/events/mayoral-candidate-forum/var/event_access
END:VEVENT
END:VCALENDAR