BEGIN:VCALENDAR
VERSION:2.0
PRODID:-//eventon.com NONSGML v1.0//EN
CALSCALE:GREGORIAN
METHOD:PUBLISH
BEGIN:VEVENT
UID:69e62d0d37af8
DTSTAMP:20260420T134133Z
DTSTART:20200213T193000Z
DTEND:20200213T235000Z
LOCATION:Peoria Civic Center Theater 201 SW Jefferson Ave in Peoria
SUMMARY:Dancing with the Stars Live Tour
DESCRIPTION:The Dancing with the Stars Live Tour will be presented in the P
 eoria Civic Center Theater at 7:30 pm. Featuring professional dancers with
  every type of dance style as on the TV show\,  tickets are $44.50\,  $62.5
 0\,  $97.50\,  $125 and are available at the box office by calling 800-745-
 3000 or online[..]\nhttps://explorepeoria.com/events/dancing-with-the-stars
 -live-tour/
URL:https://explorepeoria.com/events/dancing-with-the-stars-live-tour/
END:VEVENT
END:VCALENDAR