BEGIN:VCALENDAR
VERSION:2.0
PRODID:-//eventon.com NONSGML v1.0//EN
CALSCALE:GREGORIAN
METHOD:PUBLISH
BEGIN:VEVENT
UID:69ec3fda3793a
DTSTAMP:20260425T041522Z
DTSTART:20200201T130000Z
DTEND:20200201T235000Z
LOCATION:Peoria Civic Center Arena 201 SW Jefferson Ave in Peoria
SUMMARY:ILMEA All-State & Honors Concerts
DESCRIPTION:The ILMEA State Music Education Conference All-State Concert wi
 ll begin at 1 pm and the Honors Concert will take place beginning at 3:30 p
 m in the Peoria Civic Center arena. Both concerts feature orchestra and cho
 ral performances. Admission is $5 for the general public for both concerts 
 and tickets are[..]\nhttps://explorepeoria.com/events/ilmea-all-state-honor
 s-concerts/
URL:https://explorepeoria.com/events/ilmea-all-state-honors-concerts/
END:VEVENT
END:VCALENDAR