BEGIN:VCALENDAR
VERSION:2.0
PRODID:-//eventon.com NONSGML v1.0//EN
CALSCALE:GREGORIAN
METHOD:PUBLISH
BEGIN:VEVENT
UID:69e632b3a7c1e
DTSTAMP:20260420T140539Z
DTSTART:20191102T180000Z
DTEND:20191102T235000Z
LOCATION:Par-a-Dice Hotel 21 Blackjack Boulevard
SUMMARY:CASAblanca Dancing with the Stars
DESCRIPTION:CASA of Peoria County will present the 14th Annual CASAblanca 
 Dancing with the Stars fundraiser at the Par-A-Dice Hotel Casino in East P
 eoria beginning at 6 pm. The dance competition features local “celebritie
 s” each paired with a talented instructor. Dancers will vie for the Peopl
 e’s Choice Award\,  to be determined by online[..]\nhttps://explorepeoria
 .com/events/casablanca-dancing-with-the-stars/
URL:https://explorepeoria.com/events/casablanca-dancing-with-the-stars/
END:VEVENT
END:VCALENDAR