BEGIN:VCALENDAR
VERSION:2.0
PRODID:-//eventon.com NONSGML v1.0//EN
CALSCALE:GREGORIAN
METHOD:PUBLISH
BEGIN:VEVENT
UID:69ea00e8a31b9
DTSTAMP:20260423T112216Z
DTSTART:20191117T150000Z
DTEND:20191117T235000Z
LOCATION:Peoria Civic Center Theater 201 SW Jefferson Ave in Peoria
SUMMARY:Theresa Caputo
DESCRIPTION:Theresa Caputo will perform in the Peoria Civic Center Theater 
 beginning at 3 pm. Tickets range from $42.75 - $92.75 and are available at 
 the box office\,  by calling 800-745-3000 or online at http://ticketmaster
 .com\nhttps://explorepeoria.com/events/theresa-caputo/
URL:https://explorepeoria.com/events/theresa-caputo/
END:VEVENT
END:VCALENDAR