BEGIN:VCALENDAR
VERSION:2.0
PRODID:-//eventon.com NONSGML v1.0//EN
CALSCALE:GREGORIAN
METHOD:PUBLISH
BEGIN:VEVENT
UID:69e8a10743d0a
DTSTAMP:20260422T102055Z
DTSTART:20190720T090000Z
DTEND:20190720T120000Z
LOCATION:Donovan Park
SUMMARY:Birthday Bash and Block Party
DESCRIPTION:Communication Junction's 10th Birthday Party and Block Party wi
 ll take place at Donovan Park (located at 5805 N Knoxville Ave in Peoria) f
 rom 9 am - 12 pm. Featuring local children's businesses\,  activities and l
 ight refreshments\,  suggested donation is $15 for families. For more infor
 mation\,  visit www.eventbrite.com/e/cjs-10th-birthday-bash-and-block-party
 -tickets-62361370538\nhttps://explorepeoria.com/events/birthday-bash-and-bl
 ock-party-2/
URL:https://explorepeoria.com/events/birthday-bash-and-block-party-2/
END:VEVENT
END:VCALENDAR