BEGIN:VCALENDAR
VERSION:2.0
PRODID:-//eventon.com NONSGML v1.0//EN
CALSCALE:GREGORIAN
METHOD:PUBLISH
BEGIN:VEVENT
UID:69e89288d61d6
DTSTAMP:20260422T091904Z
DTSTART:20190616T150000Z
DTEND:20190616T150000Z
LOCATION:Illinois Valley Central High School 1300 W. Sycamore St. in Chillicothe
SUMMARY:Frozen Jr.
DESCRIPTION:Frozen Jr. will be presented by the Chillicothe Players at\nhtt
 ps://explorepeoria.com/events/frozen-jr-3/
URL:https://explorepeoria.com/events/frozen-jr-3/
END:VEVENT
END:VCALENDAR