BEGIN:VCALENDAR
VERSION:2.0
PRODID:-//eventon.com NONSGML v1.0//EN
CALSCALE:GREGORIAN
METHOD:PUBLISH
BEGIN:VEVENT
UID:69ecd8659259b
DTSTAMP:20260425T150613Z
DTSTART:20260524T000000Z
DTEND:20260524T020000Z
LOCATION:Peoria Riverfront Museum Dome Planetarium 222 SW Washington St in Peoria
SUMMARY:Peoria Riverfront Museum - Wine and Cheese Under the Stars
DESCRIPTION:Wine and Cheese Under the Stars: Artemis will take place at the
  Peoria Riverfront Museum Dome Planetarium from 7 - 9 pm. Featuring the "th
 e world's most advanced" planetarium system\,  each guest will receive an i
 ndividual Bella's Charcuterie box featuring cheeses\,  fruits\,  nuts &amp;
  more plus up to three servings[..]\nhttps://explorepeoria.com/events/peori
 a-riverfront-museum-wine-and-cheese-under-the-stars-may-2026/
URL:https://explorepeoria.com/events/peoria-riverfront-museum-wine-and-cheese-under-the-stars-may-2026/
END:VEVENT
END:VCALENDAR