BEGIN:VCALENDAR
VERSION:2.0
PRODID:-//eventon.com NONSGML v1.0//EN
CALSCALE:GREGORIAN
METHOD:PUBLISH
BEGIN:VEVENT
UID:69ed0c2d37715
DTSTAMP:20260425T184709Z
DTSTART:20260523T230000Z
DTEND:20260524T045900Z
LOCATION:Peoria Riverfront Museum Dome Planetarium 222 SW Washington St in Peoria
SUMMARY:Riverfront Museum - Laser Light Night
DESCRIPTION:Laser Light Night will take place at the Peoria Riverfront Muse
 um Dome Planetarium (located at 222 NW Water St in Peoria).  Featuring Las
 er K Pop Demon Hunters (all music from the hit movie!) at 6 pm and 7:15 pm 
 and Laser Taylor Swift at 8:30 pm\,  admission for members is[..]\nhttps://
 explorepeoria.com/events/riverfront-museum-laser-light-night-may-2026/
URL:https://explorepeoria.com/events/riverfront-museum-laser-light-night-may-2026/
END:VEVENT
END:VCALENDAR