BEGIN:VCALENDAR
VERSION:2.0
PRODID:-//eventon.com NONSGML v1.0//EN
CALSCALE:GREGORIAN
METHOD:PUBLISH
BEGIN:VEVENT
UID:69ecab8162669
DTSTAMP:20260425T115441Z
DTSTART:20260425T230000Z
DTEND:20260426T045900Z
LOCATION:Peoria Riverfront Museum Dome Planetarium 222 SW Washington St in Peoria
SUMMARY:Riverfront Museum - Laser Light Night
DESCRIPTION:Laser Light Night will take place at the Peoria Riverfront Muse
 um Dome Planetarium (located at 222 NW Water St in Peoria).  Featuring Las
 er Jimi Hendrix at 6 pm\,  Laser Floyd: The Wall at 7:15 pm and Laser Floyd
 : Dark Side of the Moon at 8:30 pm\,  admission for members is[..]\nhttps:/
 /explorepeoria.com/events/riverfront-museum-laser-light-night-april-2026/
URL:https://explorepeoria.com/events/riverfront-museum-laser-light-night-april-2026/
END:VEVENT
END:VCALENDAR