BEGIN:VCALENDAR
VERSION:2.0
PRODID:-//eventon.com NONSGML v1.0//EN
CALSCALE:GREGORIAN
METHOD:PUBLISH
BEGIN:VEVENT
UID:69ea1a75eb077
DTSTAMP:20260423T131117Z
DTSTART:20260503T203000Z
DTEND:20260504T045900Z
LOCATION:Five Points Washington 360 Wilmor Rd in Washington
SUMMARY:Youth Music Illinois - 6oth Anniversary Concerts
DESCRIPTION:The Youth Music Illinois will perform their 60th Anniversary Co
 ncerts at Five Points Washington (located at 360 N. Wilmore in Washington).
   The 3:30 pm performance will feature the dolce string ensemble\,  prepar
 atory orchestra\,  and intermediate string ensemble and the 6:30 pm perform
 ance will feature the String Quartets\,  Concert Orchestra and[..]\nhttps:/
 /explorepeoria.com/events/youth-music-illinois-6oth-anniversary-concerts/
URL:https://explorepeoria.com/events/youth-music-illinois-6oth-anniversary-concerts/
END:VEVENT
END:VCALENDAR