BEGIN:VCALENDAR
VERSION:2.0
PRODID:-//eventon.com NONSGML v1.0//EN
CALSCALE:GREGORIAN
METHOD:PUBLISH
BEGIN:VEVENT
UID:69e5f3555019c
DTSTAMP:20260420T093517Z
DTSTART:20260423T223000Z
DTEND:20260424T045900Z
LOCATION:Creve Coeur Club 212 SW Jefferson
SUMMARY:Peoria Historical Society - Illinois History in 10 Objects
DESCRIPTION:The Peoria Historical Society Illinois History in 10 Objects wi
 ll take place at the Creve Coeur Club  (located in the previous River Stat
 ion Restaurant at 212 Southwest Water Street in Peoria) beginning at 5:30 p
 m.  Illinois State Museum curator Erika Holst will share 10 items from Ill
 inois history plus local[..]\nhttps://explorepeoria.com/events/peoria-histo
 rical-society-illinois-history-in-10-objects/
URL:https://explorepeoria.com/events/peoria-historical-society-illinois-history-in-10-objects/
END:VEVENT
END:VCALENDAR