BEGIN:VCALENDAR
VERSION:2.0
PRODID:-//eventon.com NONSGML v1.0//EN
CALSCALE:GREGORIAN
METHOD:PUBLISH
BEGIN:VEVENT
UID:69e9fe8811301
DTSTAMP:20260423T111208Z
DTSTART:20260423T160000Z
DTEND:20260423T180000Z
LOCATION:Peoria County Courthouse Plaza
SUMMARY:Arts in Education Spring Celebration 2026
DESCRIPTION:The 2026 Gerald M. Brookhart Arts In Education Spring Celebrati
 on will be held in the Sun Plaza of the Peoria Riverfront Museum and in the
  Rear Plaza outside the Caterpillar Visitor's Center (or inside the facilit
 ies if the weather in inclement) from 11 am - 1 pm weekdays April 21[..]\nh
 ttps://explorepeoria.com/events/arts-in-education-spring-celebration-2026/v
 ar/ri-2.l-L1
URL:https://explorepeoria.com/events/arts-in-education-spring-celebration-2026/var/ri-2.l-L1
END:VEVENT
END:VCALENDAR