BEGIN:VCALENDAR
VERSION:2.0
PRODID:-//eventon.com NONSGML v1.0//EN
CALSCALE:GREGORIAN
METHOD:PUBLISH
BEGIN:VEVENT
UID:69e4fc1df1af1
DTSTAMP:20260419T160029Z
DTSTART:20260531T003000Z
DTEND:20260531T045900Z
LOCATION:Corn Stock Theatre
SUMMARY:Corn Stock Theatre - West Side Story
DESCRIPTION:West Side Story will be presented in the Corn Stock Theatre ten
 t (located in upper Bradley Park) beginning at 7:30 pm. Tickets go on sale 
 on May 8 and will be $25 for adults and $20 for students age 18 &amp; under
  and are available in person at the Corn[..]\nhttps://explorepeoria.com/eve
 nts/corn-stock-theatre-west-side-story/var/ri-1.l-L1
URL:https://explorepeoria.com/events/corn-stock-theatre-west-side-story/var/ri-1.l-L1
END:VEVENT
END:VCALENDAR