BEGIN:VCALENDAR
VERSION:2.0
PRODID:-//eventon.com NONSGML v1.0//EN
CALSCALE:GREGORIAN
METHOD:PUBLISH
BEGIN:VEVENT
UID:69ea2009351be
DTSTAMP:20260423T133505Z
DTSTART:20260522T233500Z
DTEND:20260523T045900Z
LOCATION:Dozer Park 730 SW Jefferson Ave in Peoria
SUMMARY:Peoria Chiefs vs. Cedar Rapids Kernels
DESCRIPTION:The Peoria Chiefs\,  the St. Louis Cardinals affiliate\,  will 
 take on the Cedar Rapids Kernels at 6:35 pm at Dozer Park. Individual ticke
 ts start at $14 and are available online at www.PeoriaChiefs.com\nhttps://e
 xplorepeoria.com/events/peoria-chiefs-vs-cedar-rapids-kernels-may/var/ri-2.
 l-L1
URL:https://explorepeoria.com/events/peoria-chiefs-vs-cedar-rapids-kernels-may/var/ri-2.l-L1
END:VEVENT
END:VCALENDAR