BEGIN:VCALENDAR
VERSION:2.0
PRODID:-//eventon.com NONSGML v1.0//EN
CALSCALE:GREGORIAN
METHOD:PUBLISH
BEGIN:VEVENT
UID:69ea1ee38c898
DTSTAMP:20260423T133011Z
DTSTART:20260519T160500Z
DTEND:20260520T045900Z
LOCATION:Dozer Park 730 SW Jefferson Ave in Peoria
SUMMARY:Peoria Chiefs vs. Cedar Rapids Kernels
DESCRIPTION:The Peoria Chiefs\,  the St. Louis Cardinals affiliate\,  will 
 take on the Cedar Rapids Kernels at 11:05 am during Education Day at Dozer 
 Park. Individual tickets start at $14 and are available online at www.Peori
 aChiefs.com\nhttps://explorepeoria.com/events/peoria-chiefs-vs-cedar-rapids
 -kernels-12/
URL:https://explorepeoria.com/events/peoria-chiefs-vs-cedar-rapids-kernels-12/
END:VEVENT
END:VCALENDAR