BEGIN:VCALENDAR
VERSION:2.0
PRODID:-//eventon.com NONSGML v1.0//EN
CALSCALE:GREGORIAN
METHOD:PUBLISH
BEGIN:VEVENT
UID:69ea20076b675
DTSTAMP:20260423T133503Z
DTSTART:20260508T233500Z
DTEND:20260509T045900Z
LOCATION:Dozer Park 730 SW Jefferson Ave in Peoria
SUMMARY:Peoria Chiefs vs. Wisconsin Timber Rattlers
DESCRIPTION:The Peoria Chiefs\,  the St. Louis Cardinals affiliate\,  will 
 take on the Wisconsin Timber Rattlers at 6:35 pm at Dozer Park. Individual 
 tickets start at $14 and are available online at www.PeoriaChiefs.com\nhttp
 s://explorepeoria.com/events/peoria-chiefs-vs-wisconsin-timber-rattlers-may
 /var/ri-2.l-L1
URL:https://explorepeoria.com/events/peoria-chiefs-vs-wisconsin-timber-rattlers-may/var/ri-2.l-L1
END:VEVENT
END:VCALENDAR