BEGIN:VCALENDAR
VERSION:2.0
PRODID:-//eventon.com NONSGML v1.0//EN
CALSCALE:GREGORIAN
METHOD:PUBLISH
BEGIN:VEVENT
UID:69ea377071208
DTSTAMP:20260423T151456Z
DTSTART:20260505T160500Z
DTEND:20260506T045900Z
LOCATION:Dozer Park 730 SW Jefferson Ave in Peoria
SUMMARY:Peoria Chiefs vs. Wisconsin Timber Rattlers
DESCRIPTION:The Peoria Chiefs\,  the St. Louis Cardinals affiliate\,  will 
 take on the Wisconsin Timber Rattlers at 11:05 am during Education Day at D
 ozer Park. Individual tickets start at $14 and are available online at www.
 PeoriaChiefs.com\nhttps://explorepeoria.com/events/peoria-chiefs-vs-wiscons
 in-timber-rattlers-13/
URL:https://explorepeoria.com/events/peoria-chiefs-vs-wisconsin-timber-rattlers-13/
END:VEVENT
END:VCALENDAR