BEGIN:VCALENDAR
VERSION:2.0
PRODID:-//eventon.com NONSGML v1.0//EN
CALSCALE:GREGORIAN
METHOD:PUBLISH
BEGIN:VEVENT
UID:69e8b819b75ff
DTSTAMP:20260422T115921Z
DTSTART:20260516T003000Z
DTEND:20260516T045900Z
LOCATION:Peoria Civic Center Theater 201 SW Jefferson Ave in Peoria
SUMMARY:Peoria Symphony Orchestra - Grand Slam Jam
DESCRIPTION:Grand Slam Jam will be presented by the Peoria Symphony Orchest
 ra at the Peoria Civic Center Theater beginning at 7:30 pm.  Featuring Ori
 on Weiss on piano\,  tickets start at $41.60 and are available by calling 3
 09-671-1096 or online at http://ticketmaster.com\nhttps://explorepeoria.com
 /events/peoria-symphony-orchestra-grand-slam-jam/
URL:https://explorepeoria.com/events/peoria-symphony-orchestra-grand-slam-jam/
END:VEVENT
END:VCALENDAR