BEGIN:VCALENDAR
VERSION:2.0
PRODID:-//eventon.com NONSGML v1.0//EN
CALSCALE:GREGORIAN
METHOD:PUBLISH
BEGIN:VEVENT
UID:69e892568f136
DTSTAMP:20260422T091814Z
DTSTART:20260403T140000Z
DTEND:20260403T213000Z
LOCATION:Wildlife Prairie Park
SUMMARY:Wildlife Prairie Park - Easter Egg Hunt
DESCRIPTION:Wildlife Prairie Park (located at 3826 N. Taylor Road in Hanna 
 City) will host several Easter events Friday through Sunday from 9 am - 4:3
 0 pm.  An Easter Egg Scavenger Hunt will take place throughout the weekend
  with the winner receiving a private meet and greet with one of the[..]\nht
 tps://explorepeoria.com/events/wildlife-prairie-park-easter-egg-hunt-2/
URL:https://explorepeoria.com/events/wildlife-prairie-park-easter-egg-hunt-2/
END:VEVENT
END:VCALENDAR