BEGIN:VCALENDAR
VERSION:2.0
PRODID:-//eventon.com NONSGML v1.0//EN
CALSCALE:GREGORIAN
METHOD:PUBLISH
BEGIN:VEVENT
UID:69ecada384d29
DTSTAMP:20260425T120347Z
DTSTART:20260425
DTEND:20260426
LOCATION:
SUMMARY:Membership Swap Weekend 2026
DESCRIPTION:Multiple Peoria-area attractions will hold Membership Swap week
 end Friday through Sunday.  If you are a member of the Peoria Riverfront M
 useum\,  Peoria Zoo\,  Wildlife Prairie Park\,  or the Peoria Playhouse\,  
 you can enjoy a weekend of free admission to all of these Peoria-area attra
 ctions when you present your membership card[..]\nhttps://explorepeoria.com
 /events/membership-swap-weekend-2026/var/ri-1.l-L1
URL:https://explorepeoria.com/events/membership-swap-weekend-2026/var/ri-1.l-L1
END:VEVENT
END:VCALENDAR