BEGIN:VCALENDAR
VERSION:2.0
PRODID:-//eventon.com NONSGML v1.0//EN
CALSCALE:GREGORIAN
METHOD:PUBLISH
BEGIN:VEVENT
UID:69eb73e86925d
DTSTAMP:20260424T134512Z
DTSTART:20260424
DTEND:20260425
LOCATION:
SUMMARY:Membership Swap Weekend 2026
DESCRIPTION:Multiple Peoria-area attractions will hold Membership Swap week
 end Friday through Sunday.  If you are a member of the Peoria Riverfront M
 useum\,  Peoria Zoo\,  Wildlife Prairie Park\,  or the Peoria Playhouse\,  
 you can enjoy a weekend of free admission to all of these Peoria-area attra
 ctions when you present your membership card[..]\nhttps://explorepeoria.com
 /events/membership-swap-weekend-2026/
URL:https://explorepeoria.com/events/membership-swap-weekend-2026/
END:VEVENT
END:VCALENDAR