BEGIN:VCALENDAR
VERSION:2.0
PRODID:-//eventon.com NONSGML v1.0//EN
CALSCALE:GREGORIAN
METHOD:PUBLISH
BEGIN:VEVENT
UID:69ecd8c779aa5
DTSTAMP:20260425T150751Z
DTSTART:20260412T170000Z
DTEND:20260412T220000Z
LOCATION:Peoria Riverfront Museum Downtown Peoria
SUMMARY:Peoria Riverfront Museum - Free Admission Day
DESCRIPTION:The Peoria Riverfront Museum will offer free admission from Noo
 n - 5 pm.  Sponsored by the Art Bridges Foundation\,  visitors will have a
 ccess to all galleries\,  plus enjoy make and take art activities\,  planet
 arium shows\,  guided tours\,  live performances and more.  For more infor
 mation\,  visit https://www.peoriariverfrontmuseum.org\nhttps://explorepeor
 ia.com/events/peoria-riverfront-museum-free-admission-day-april-2/
URL:https://explorepeoria.com/events/peoria-riverfront-museum-free-admission-day-april-2/
END:VEVENT
END:VCALENDAR