BEGIN:VCALENDAR
VERSION:2.0
PRODID:-//eventon.com NONSGML v1.0//EN
CALSCALE:GREGORIAN
METHOD:PUBLISH
BEGIN:VEVENT
UID:69ecda218e38b
DTSTAMP:20260425T151337Z
DTSTART:20260411T150000Z
DTEND:20260411T220000Z
LOCATION:Peoria Riverfront Museum Downtown Peoria
SUMMARY:Peoria Riverfront Museum - FUSE Interactive Experience
DESCRIPTION:Bradley University’s FUSE Day will take place at the Peoria R
 iverfront Museum from 10 am - 5 pm.  From advertising and entertainment\, 
  to education\,  health care\,  gaming and more\,  interactive media profes
 sionals are the bridge between industry and creative solutions.  Featuring
  Bradley University’s internationally recognized Department of Interactiv
 e Media invites[..]\nhttps://explorepeoria.com/events/peoria-riverfront-mus
 eum-fuse-interactive-experience-2026/
URL:https://explorepeoria.com/events/peoria-riverfront-museum-fuse-interactive-experience-2026/
END:VEVENT
END:VCALENDAR