BEGIN:VCALENDAR
VERSION:2.0
PRODID:-//eventon.com NONSGML v1.0//EN
CALSCALE:GREGORIAN
METHOD:PUBLISH
BEGIN:VEVENT
UID:69ecdb5646be7
DTSTAMP:20260425T151846Z
DTSTART:20260426T143000Z
DTEND:20260426T235900Z
LOCATION:
SUMMARY:Artistic Community Theatre -  Steel Magnolias
DESCRIPTION:Artistic Community Theatre will present Steel Magnolias at the 
 theatre (located at 407 Court St. in Pekin) beginning at 2:30 pm.   Ticke
 ts are $20\,   $25 for "Munchie Seats" which include a drink &amp; a snack
  or $30 for "Treat Seats" which includes a meat &amp; cheese plate and are 
 available[..]\nhttps://explorepeoria.com/events/artistic-community-theatre-
 steel-magnolias-4/var/ri-1.l-L1
URL:https://explorepeoria.com/events/artistic-community-theatre-steel-magnolias-4/var/ri-1.l-L1
END:VEVENT
END:VCALENDAR