BEGIN:VCALENDAR
VERSION:2.0
PRODID:-//eventon.com NONSGML v1.0//EN
CALSCALE:GREGORIAN
METHOD:PUBLISH
BEGIN:VEVENT
UID:69e9fe244a8a5
DTSTAMP:20260423T111028Z
DTSTART:20260424T003000Z
DTEND:20260424T045900Z
LOCATION:Hartmann Center for Performing Arts 1423 W Saint James St In Peoria
SUMMARY:Bradley University Theatre - Four-Ward Thinking
DESCRIPTION:Bradley University Theatre will present Four-Ward Thinking at t
 he Hartmann Center for the Performing Arts Thursday\,  Friday and Saturday 
 at 7:30 pm and at 2 pm on Sunday.  These new one-act plays from four celeb
 rated new voices in playwriting: Kati Frazier\,  Abby Jimison\,  Caridad Sv
 ich\,  and Adam Szymkowicz cover contemporary[..]\nhttps://explorepeoria.co
 m/events/bradley-university-theatre-four-ward-thinking/
URL:https://explorepeoria.com/events/bradley-university-theatre-four-ward-thinking/
END:VEVENT
END:VCALENDAR