BEGIN:VCALENDAR
VERSION:2.0
PRODID:-//eventon.com NONSGML v1.0//EN
CALSCALE:GREGORIAN
METHOD:PUBLISH
BEGIN:VEVENT
UID:69e9fff4492d8
DTSTAMP:20260423T111812Z
DTSTART:20260425T230500Z
DTEND:20260426T045900Z
LOCATION:Dozer Park 730 SW Jefferson Ave in Peoria
SUMMARY:Peoria Chiefs vs. Cedar Rapids Kernals
DESCRIPTION:The Peoria Chiefs\,  the St. Louis Cardinals affiliate\,  will 
 take on the Cedar Rapids Kernals at 6:05 pm at Dozer Park. Individual ticke
 ts start at $14 and are available online at www.PeoriaChiefs.com\nhttps://e
 xplorepeoria.com/events/peoria-chiefs-vs-cedar-rapids-kernals-2026/
URL:https://explorepeoria.com/events/peoria-chiefs-vs-cedar-rapids-kernals-2026/
END:VEVENT
END:VCALENDAR