BEGIN:VCALENDAR
VERSION:2.0
PRODID:-//eventon.com NONSGML v1.0//EN
CALSCALE:GREGORIAN
METHOD:PUBLISH
BEGIN:VEVENT
UID:69ea204674141
DTSTAMP:20260423T133606Z
DTSTART:20260407T233500Z
DTEND:20260408T045900Z
LOCATION:Dozer Park 730 SW Jefferson Ave in Peoria
SUMMARY:Peoria Chiefs vs. South Bend Cubs
DESCRIPTION:The Peoria Chiefs\,  the St. Louis Cardinals affiliate\,  will 
 take on the South Bend Cubs at 6:35 pm at Dozer Park. Individual tickets st
 art at $14 and are available online at www.PeoriaChiefs.com\nhttps://explor
 epeoria.com/events/peoria-chiefs-vs-south-bend-cubs-2026/
URL:https://explorepeoria.com/events/peoria-chiefs-vs-south-bend-cubs-2026/
END:VEVENT
END:VCALENDAR