BEGIN:VCALENDAR
VERSION:2.0
PRODID:-//eventon.com NONSGML v1.0//EN
CALSCALE:GREGORIAN
METHOD:PUBLISH
BEGIN:VEVENT
UID:69eb75303e6e4
DTSTAMP:20260424T135040Z
DTSTART:20260424T190000Z
DTEND:20260424T235900Z
LOCATION:Peoria Civic Center Arena 201 SW Jefferson Ave in Peoria
SUMMARY:Peoria Civic Center - Dwight Yoakam & ZZ Top
DESCRIPTION:Dwight Yoakam &amp; ZZ Top will perform their Dos Amigos Tour a
 t the Peoria Civic Center Arena beginning at 7 pm. Tickets start at $76.60 
 and are available at http://ticketmaster.com\nhttps://explorepeoria.com/eve
 nts/peoria-civic-center-dwight-yoakam-zz-top/
URL:https://explorepeoria.com/events/peoria-civic-center-dwight-yoakam-zz-top/
END:VEVENT
END:VCALENDAR