BEGIN:VCALENDAR
VERSION:2.0
PRODID:-//eventon.com NONSGML v1.0//EN
CALSCALE:GREGORIAN
METHOD:PUBLISH
BEGIN:VEVENT
UID:69e6d59f07886
DTSTAMP:20260421T014047Z
DTSTART:20260423T000000Z
DTEND:20260423T045900Z
LOCATION:Peoria Civic Center Theater 201 SW Jefferson Ave in Peoria
SUMMARY:Peoria Civic Center - CeCe Winans
DESCRIPTION:CeCe Winans will bring her More Than This Tour tp the Peoria Ci
 vic Center Theater at 7 pm.  Tickets start at $64.35 and are available onl
 ine at Ticketmaster.com &nbsp;\nhttps://explorepeoria.com/events/peoria-civ
 ic-center-cece-winans/
URL:https://explorepeoria.com/events/peoria-civic-center-cece-winans/
END:VEVENT
END:VCALENDAR