BEGIN:VCALENDAR
VERSION:2.0
PRODID:-//eventon.com NONSGML v1.0//EN
CALSCALE:GREGORIAN
METHOD:PUBLISH
BEGIN:VEVENT
UID:69e6d58f76e98
DTSTAMP:20260421T014031Z
DTSTART:20260424T000000Z
DTEND:20260424T045900Z
LOCATION:Peoria Civic Center Theater 201 SW Jefferson Ave in Peoria
SUMMARY:World Ballet Company - Cinderella
DESCRIPTION:The World Ballet Company will present Swan Lake at the Peoria C
 ivic Center Theater at 7 pm.  The beloved fairy tale comes to life in a sp
 ectacular Broadway-style production that delights all ages\,  blending humo
 r\,  romance\,  and the timeless majesty of classical ballet.  Tickets sta
 rt at $59 and are available[..]\nhttps://explorepeoria.com/events/world-bal
 let-company-cinderella/
URL:https://explorepeoria.com/events/world-ballet-company-cinderella/
END:VEVENT
END:VCALENDAR