BEGIN:VCALENDAR
VERSION:2.0
PRODID:-//eventon.com NONSGML v1.0//EN
CALSCALE:GREGORIAN
METHOD:PUBLISH
BEGIN:VEVENT
UID:69e4cf310a1b5
DTSTAMP:20260419T124849Z
DTSTART:20260308T013000Z
DTEND:20260308T055900Z
LOCATION:Peoria Civic Center Theater 201 SW Jefferson Ave in Peoria
SUMMARY:Peoria Civic Center Theater - Colter Wall
DESCRIPTION:Colter Wall will perform his Memories and Empties Tour at the
  Peoria Civic Center Theater beginning at 7:30 pm.  Tickets start at $63 a
 nd are available at http://ticketmaster.com &nbsp;\nhttps://explorepeoria.c
 om/events/peoria-civic-center-theater-colter-wall/
URL:https://explorepeoria.com/events/peoria-civic-center-theater-colter-wall/
END:VEVENT
END:VCALENDAR