BEGIN:VCALENDAR
VERSION:2.0
PRODID:-//eventon.com NONSGML v1.0//EN
CALSCALE:GREGORIAN
METHOD:PUBLISH
BEGIN:VEVENT
UID:69e8f881b2dcd
DTSTAMP:20260422T163409Z
DTSTART:20260221T160000Z
DTEND:20260221T210000Z
LOCATION:Avanti&#039;s Event Center 3401 Griffin Ave
SUMMARY:Avanti's Dome - Sports Card 'n Collector's Show
DESCRIPTION:Sports Card 'n Collector's Show will take place at the Avanti's
  Event Center (located at 3401 Griffin Drive in Pekin) from 10 am - 3 pm. 
  Featuring nearly 50 vendors with sports cards\,  Pokemon\,  Pops\,  Magic 
 the Gathering\,  game used material\,  autographed memorabilia\,  comics\, 
  loaded grab bags\,  Legos\,  Star Wars\, [..]\nhttps://explorepeoria.com/e
 vents/avantis-dome-sports-card-n-collectors-show/
URL:https://explorepeoria.com/events/avantis-dome-sports-card-n-collectors-show/
END:VEVENT
END:VCALENDAR