BEGIN:VCALENDAR
VERSION:2.0
PRODID:-//eventon.com NONSGML v1.0//EN
CALSCALE:GREGORIAN
METHOD:PUBLISH
BEGIN:VEVENT
UID:69e89289c6a4d
DTSTAMP:20260422T091905Z
DTSTART:20260214T123000Z
DTEND:20260214T143000Z
LOCATION:Haus 1349
SUMMARY:Valentine's Day Candle Making
DESCRIPTION:A Valentine's Day Candle Making\,  Pizza &amp; Bingo Workshop w
 ill take place at Haus 1349 (located at  1231 W Main St. in Peoria) beginn
 ing at 12:30 pm.  In this hands-on workshop\,  you will hand-pour your own
  custom-scented candle into a charming terracotta flower pot. Then\,  while
  your creation cures\,  eat[..]\nhttps://explorepeoria.com/events/valentine
 s-day-candle-making/
URL:https://explorepeoria.com/events/valentines-day-candle-making/
END:VEVENT
END:VCALENDAR