BEGIN:VCALENDAR
VERSION:2.0
PRODID:-//eventon.com NONSGML v1.0//EN
CALSCALE:GREGORIAN
METHOD:PUBLISH
BEGIN:VEVENT
UID:69e8f3fd1004d
DTSTAMP:20260422T161453Z
DTSTART:20251129T233000Z
DTEND:20251130T055900Z
LOCATION:Barn III Dinner Theatre Goodfield IL
SUMMARY:Barn III Dinner Theatre - Plaid Tidings
DESCRIPTION:Plaid Tidings will be presented at the Barn III Dinner Theatre 
 in Goodfield running Thursdays through Sundays opening on November 15 and r
 unning through December 31 with seating beginning at 5:30 pm on Thursdays t
 hrough Saturdays and at 11:30 am on Sundays.  Tickets for the show are $35
 .  Upon arrival[..]\nhttps://explorepeoria.com/events/barn-iii-dinner-thea
 tre-plaid-tidings-3/
URL:https://explorepeoria.com/events/barn-iii-dinner-theatre-plaid-tidings-3/
END:VEVENT
END:VCALENDAR