BEGIN:VCALENDAR
VERSION:2.0
PRODID:-//eventon.com NONSGML v1.0//EN
CALSCALE:GREGORIAN
METHOD:PUBLISH
BEGIN:VEVENT
UID:69e8a50d5dfd8
DTSTAMP:20260422T103805Z
DTSTART:20251017T230000Z
DTEND:20251018T010000Z
LOCATION:Fondulac Farm Park 305 Neumann Dr.
SUMMARY:Fondulac Farm Park Witches Walk
DESCRIPTION:The annual Witches Walk will take place at the Fondulac Farm Pa
 rk (located at 305 Neumann Dr. in East Peoria) on Friday &amp; Saturday fro
 m 6 - 8 pm. Featuring a family-friendly\,  Halloween-themed lighted trail t
 hat winds through the farm with spooky scenes\,  playful frights\,  and mag
 ical surprises around every[..]\nhttps://explorepeoria.com/events/fondulac-
 farm-park-witches-walk-2025/
URL:https://explorepeoria.com/events/fondulac-farm-park-witches-walk-2025/
END:VEVENT
END:VCALENDAR