BEGIN:VCALENDAR
VERSION:2.0
PRODID:-//eventon.com NONSGML v1.0//EN
CALSCALE:GREGORIAN
METHOD:PUBLISH
BEGIN:VEVENT
UID:69e8b8f2d3b24
DTSTAMP:20260422T120258Z
DTSTART:20251005T000000Z
DTEND:20251005T040000Z
LOCATION:Spider Hill Three Sisters Park
SUMMARY:Spider Hill
DESCRIPTION:Spider Hill will take place at Three Sisters Park on Rt. 29 in 
 Chillicothe on Friday &amp; Saturday with gates opening at 6:45 pm for tick
 et sales and attractions open from at 7 -11 pm.   Featuring two main attr
 actions\,  the Massacre Mansion &amp; Trail of Terror\,  tickets are $23 ea
 ch[..]\nhttps://explorepeoria.com/events/spider-hill-2025/var/ri-1.l-L1
URL:https://explorepeoria.com/events/spider-hill-2025/var/ri-1.l-L1
END:VEVENT
END:VCALENDAR