BEGIN:VCALENDAR
VERSION:2.0
PRODID:-//eventon.com NONSGML v1.0//EN
CALSCALE:GREGORIAN
METHOD:PUBLISH
BEGIN:VEVENT
UID:69e7340b8b4ca
DTSTAMP:20260421T082339Z
DTSTART:20190606T200000Z
DTEND:20190606T200000Z
LOCATION:Jukebox Comedy Club 3527 W Farmington Road Peoria
SUMMARY:Jukebox: Nick Thune
DESCRIPTION:Comedian Nick Thune will perform at the Jukebox Comedy Club (lo
 cated at 3527 W Farmington Rd\,  Peoria) at 8 pm. Tickets are $10 and VIP t
 ickets are $25. Tickets can be purchased at www.jukeboxcomedy.com/events/ F
 or more information\,  call 309-673-5853\nhttps://explorepeoria.com/events/
 jukebox-nick-thune/
URL:https://explorepeoria.com/events/jukebox-nick-thune/
END:VEVENT
END:VCALENDAR