BEGIN:VCALENDAR
VERSION:2.0
PRODID:-//eventon.com NONSGML v1.0//EN
CALSCALE:GREGORIAN
METHOD:PUBLISH
BEGIN:VEVENT
UID:69e8a4ac36401
DTSTAMP:20260422T103628Z
DTSTART:20250713T150000Z
DTEND:20250713T235900Z
LOCATION:https://www.youtube.com/channel/UCxb3yorwG93o-eehXYWY02g
SUMMARY:Ruth the Musical
DESCRIPTION:Ruth the Musical will be presented at Five Points Washington (l
 ocated at 360 N Wilmor Rd. in Washington) beginning at 7 pm on Saturday nig
 ht and at 3 pm on Sunday.  An original work of musical theatre by local co
 mposer David Getz\,  the show will feature a pit orchestra\,  conducted[..]
 \nhttps://explorepeoria.com/events/ruth-the-musical-2/
URL:https://explorepeoria.com/events/ruth-the-musical-2/
END:VEVENT
END:VCALENDAR