BEGIN:VCALENDAR
VERSION:2.0
PRODID:-//eventon.com NONSGML v1.0//EN
CALSCALE:GREGORIAN
METHOD:PUBLISH
BEGIN:VEVENT
UID:69e88ff99fffd
DTSTAMP:20260422T090809Z
DTSTART:20240410T230000Z
DTEND:20240416T010000Z
LOCATION:Peoria Public Library North Branch 3001 West Grand Parkway in Peoria
SUMMARY:Peoria County Genealogy Society - The Emotional Side of Genealogy
DESCRIPTION:Peoria County Genealogical Society will present Tapping on Glas
 s – The Emotional Side of Genealogy at the Peoria Public Library North Br
 anch (located at 3001 W. Grand Pkwy. in Peoria) from 6 - 8 pm.  Featuring 
 Monica Vest Wheeler\,  local author and Peoria history aficionado who will 
 reflect cover a[..]\nhttps://explorepeoria.com/events/peoria-county-genealo
 gy-society-the-emotional-side-of-genealogy/
URL:https://explorepeoria.com/events/peoria-county-genealogy-society-the-emotional-side-of-genealogy/
END:VEVENT
END:VCALENDAR