BEGIN:VCALENDAR
VERSION:2.0
PRODID:-//eventon.com NONSGML v1.0//EN
CALSCALE:GREGORIAN
METHOD:PUBLISH
BEGIN:VEVENT
UID:69ea00f324396
DTSTAMP:20260423T112227Z
DTSTART:20250429T003000Z
DTEND:20250429T045900Z
LOCATION:Bertha Frank Preforming Arts Center 350 N Illinois Ave.
SUMMARY:Youth Music Illinois - JC & the Redemption
DESCRIPTION:Youth Music Illinois will perform in concert with JC &amp; the 
 Redemption at the Bertha Frank Performing Arts Center  (located at 350 N I
 llinois Ave. in Morton) at 7:30 pm.  Featuring the jazz ensembles\,  ticke
 ts are $18 for adults and free for students\,  however they must also have 
 a ticket.[..]\nhttps://explorepeoria.com/events/youth-music-illinois-jc-the
 -redemption/
URL:https://explorepeoria.com/events/youth-music-illinois-jc-the-redemption/
END:VEVENT
END:VCALENDAR