BEGIN:VCALENDAR
VERSION:2.0
PRODID:-//eventon.com NONSGML v1.0//EN
CALSCALE:GREGORIAN
METHOD:PUBLISH
BEGIN:VEVENT
UID:69e8926774269
DTSTAMP:20260422T091831Z
DTSTART:20250426T150000Z
DTEND:20250426T183000Z
LOCATION:Greater Peoria YMCA 7000 North Fleming Lane\,  Peoria
SUMMARY:Greater Peoria Family YMCA - Healthy Kids Day
DESCRIPTION:The Greater Peoria Family YMCA will host Healthy Kids Day at th
 eir facility (located at 7000 N. Fleming Lane in Peoria) from 10 am - 1:30 
 pm.  Focused on active play\,  nutrition\,  STEM\,  the arts\,  and more\,
   all activities are designed to inspire kids to get active while teaching 
 families[..]\nhttps://explorepeoria.com/events/greater-peoria-family-ymca-h
 ealthy-kids-day/
URL:https://explorepeoria.com/events/greater-peoria-family-ymca-healthy-kids-day/
END:VEVENT
END:VCALENDAR