BEGIN:VCALENDAR
VERSION:2.0
PRODID:-//eventon.com NONSGML v1.0//EN
CALSCALE:GREGORIAN
METHOD:PUBLISH
BEGIN:VEVENT
UID:69e9e730d0b57
DTSTAMP:20260423T093232Z
DTSTART:20250419T083000Z
DTEND:20250419T100000Z
LOCATION:Donovan Park
SUMMARY:Pinwheel 5K Race to End Child Abuse
DESCRIPTION:The Pinwheel 5K Race to End Child Abuse will take place at Dono
 van Park (located at 5805 Knoxville Ave. in Peoria) beginning at 8:30 am. 
  Hosted by the Pediatric Resource Center (PRC)\,  this is a cross-country 5
 K  and also includes a 5K race\,  a fun walk\,  and a kids' run. [..]\nht
 tps://explorepeoria.com/events/pinwheel-5k-race-to-end-child-abuse/
URL:https://explorepeoria.com/events/pinwheel-5k-race-to-end-child-abuse/
END:VEVENT
END:VCALENDAR